BEGIN:VCALENDAR
VERSION:2.0
PRODID:-//TSV Fridolfing - ECPv6.15.20//NONSGML v1.0//EN
CALSCALE:GREGORIAN
METHOD:PUBLISH
X-WR-CALNAME:TSV Fridolfing
X-ORIGINAL-URL:https://tsv-fridolfing.de
X-WR-CALDESC:Veranstaltungen für TSV Fridolfing
REFRESH-INTERVAL;VALUE=DURATION:PT1H
X-Robots-Tag:noindex
X-PUBLISHED-TTL:PT1H
BEGIN:VTIMEZONE
TZID:Europe/Berlin
BEGIN:DAYLIGHT
TZOFFSETFROM:+0100
TZOFFSETTO:+0200
TZNAME:CEST
DTSTART:20250330T010000
END:DAYLIGHT
BEGIN:STANDARD
TZOFFSETFROM:+0200
TZOFFSETTO:+0100
TZNAME:CET
DTSTART:20251026T010000
END:STANDARD
BEGIN:DAYLIGHT
TZOFFSETFROM:+0100
TZOFFSETTO:+0200
TZNAME:CEST
DTSTART:20260329T010000
END:DAYLIGHT
BEGIN:STANDARD
TZOFFSETFROM:+0200
TZOFFSETTO:+0100
TZNAME:CET
DTSTART:20261025T010000
END:STANDARD
BEGIN:DAYLIGHT
TZOFFSETFROM:+0100
TZOFFSETTO:+0200
TZNAME:CEST
DTSTART:20270328T010000
END:DAYLIGHT
BEGIN:STANDARD
TZOFFSETFROM:+0200
TZOFFSETTO:+0100
TZNAME:CET
DTSTART:20271031T010000
END:STANDARD
END:VTIMEZONE
BEGIN:VTIMEZONE
TZID:Europe/Paris
BEGIN:DAYLIGHT
TZOFFSETFROM:+0100
TZOFFSETTO:+0200
TZNAME:CEST
DTSTART:20250330T010000
END:DAYLIGHT
BEGIN:STANDARD
TZOFFSETFROM:+0200
TZOFFSETTO:+0100
TZNAME:CET
DTSTART:20251026T010000
END:STANDARD
BEGIN:DAYLIGHT
TZOFFSETFROM:+0100
TZOFFSETTO:+0200
TZNAME:CEST
DTSTART:20260329T010000
END:DAYLIGHT
BEGIN:STANDARD
TZOFFSETFROM:+0200
TZOFFSETTO:+0100
TZNAME:CET
DTSTART:20261025T010000
END:STANDARD
BEGIN:DAYLIGHT
TZOFFSETFROM:+0100
TZOFFSETTO:+0200
TZNAME:CEST
DTSTART:20270328T010000
END:DAYLIGHT
BEGIN:STANDARD
TZOFFSETFROM:+0200
TZOFFSETTO:+0100
TZNAME:CET
DTSTART:20271031T010000
END:STANDARD
END:VTIMEZONE
BEGIN:VEVENT
DTSTART;TZID=Europe/Berlin:20260424T170000
DTEND;TZID=Europe/Berlin:20260424T170000
DTSTAMP:20260424T122825
CREATED:20241014T131624Z
LAST-MODIFIED:20241021T164728Z
UID:10014687-1777050000-1777050000@tsv-fridolfing.de
SUMMARY:Tennis Herren 50
DESCRIPTION:
URL:https://tsv-fridolfing.de/termin/tennis-herren-50/2026-04-24/
LOCATION:Tennisplatz Fridolfing\, Laufener Str. 23\, Fridolfing\, 83413\, Germany
END:VEVENT
BEGIN:VEVENT
DTSTART;TZID=Europe/Berlin:20260424T180000
DTEND;TZID=Europe/Berlin:20260424T193000
DTSTAMP:20260424T122825
CREATED:20241014T112858Z
LAST-MODIFIED:20241021T164717Z
UID:10013112-1777053600-1777059000@tsv-fridolfing.de
SUMMARY:Tischtennis Jugendtraining
DESCRIPTION:
URL:https://tsv-fridolfing.de/termin/tischtennis-jugendtraining-2/2026-04-24/
LOCATION:Neue Schulturnhalle Fridolfing\, Römerweg\, Fridolfing\, 83413
END:VEVENT
BEGIN:VEVENT
DTSTART;TZID=Europe/Paris:20260424T193000
DTEND;TZID=Europe/Paris:20260424T220000
DTSTAMP:20260424T122825
CREATED:20240812T143947Z
LAST-MODIFIED:20241021T164810Z
UID:10001143-1777059000-1777068000@tsv-fridolfing.de
SUMMARY:Tischtennis Erwachsenentraining
DESCRIPTION:
URL:https://tsv-fridolfing.de/termin/tischtennis-erwachsenentraining-2/2026-04-24/
LOCATION:Neue Schulturnhalle Fridolfing\, Römerweg\, Fridolfing\, 83413
END:VEVENT
END:VCALENDAR