BEGIN:VCALENDAR
VERSION:2.0
PRODID:-//TSV Fridolfing - ECPv6.15.20//NONSGML v1.0//EN
CALSCALE:GREGORIAN
METHOD:PUBLISH
X-WR-CALNAME:TSV Fridolfing
X-ORIGINAL-URL:https://tsv-fridolfing.de
X-WR-CALDESC:Veranstaltungen für TSV Fridolfing
REFRESH-INTERVAL;VALUE=DURATION:PT1H
X-Robots-Tag:noindex
X-PUBLISHED-TTL:PT1H
BEGIN:VTIMEZONE
TZID:Europe/Berlin
BEGIN:DAYLIGHT
TZOFFSETFROM:+0100
TZOFFSETTO:+0200
TZNAME:CEST
DTSTART:20280326T010000
END:DAYLIGHT
BEGIN:STANDARD
TZOFFSETFROM:+0200
TZOFFSETTO:+0100
TZNAME:CET
DTSTART:20281029T010000
END:STANDARD
BEGIN:DAYLIGHT
TZOFFSETFROM:+0100
TZOFFSETTO:+0200
TZNAME:CEST
DTSTART:20290325T010000
END:DAYLIGHT
BEGIN:STANDARD
TZOFFSETFROM:+0200
TZOFFSETTO:+0100
TZNAME:CET
DTSTART:20291028T010000
END:STANDARD
BEGIN:DAYLIGHT
TZOFFSETFROM:+0100
TZOFFSETTO:+0200
TZNAME:CEST
DTSTART:20300331T010000
END:DAYLIGHT
BEGIN:STANDARD
TZOFFSETFROM:+0200
TZOFFSETTO:+0100
TZNAME:CET
DTSTART:20301027T010000
END:STANDARD
END:VTIMEZONE
BEGIN:VEVENT
DTSTART;TZID=Europe/Berlin:20290828T180000
DTEND;TZID=Europe/Berlin:20290828T193000
DTSTAMP:20260421T124205
CREATED:20241014T112805Z
LAST-MODIFIED:20241014T135957Z
UID:10013024-1882634400-1882639800@tsv-fridolfing.de
SUMMARY:Tischtennis Jugendtraining
DESCRIPTION:
URL:https://tsv-fridolfing.de/termin/tischtennis-jugendtraining/2029-08-28/
LOCATION:Neue Schulturnhalle Fridolfing\, Römerweg\, Fridolfing\, 83413
END:VEVENT
BEGIN:VEVENT
DTSTART;TZID=Europe/Berlin:20290831T180000
DTEND;TZID=Europe/Berlin:20290831T193000
DTSTAMP:20260421T124205
CREATED:20241014T112858Z
LAST-MODIFIED:20241021T164717Z
UID:10013287-1882893600-1882899000@tsv-fridolfing.de
SUMMARY:Tischtennis Jugendtraining
DESCRIPTION:
URL:https://tsv-fridolfing.de/termin/tischtennis-jugendtraining-2/2029-08-31/
LOCATION:Neue Schulturnhalle Fridolfing\, Römerweg\, Fridolfing\, 83413
END:VEVENT
BEGIN:VEVENT
DTSTART;TZID=Europe/Berlin:20290904T180000
DTEND;TZID=Europe/Berlin:20290904T193000
DTSTAMP:20260421T124205
CREATED:20241014T112805Z
LAST-MODIFIED:20241014T135957Z
UID:10013025-1883239200-1883244600@tsv-fridolfing.de
SUMMARY:Tischtennis Jugendtraining
DESCRIPTION:
URL:https://tsv-fridolfing.de/termin/tischtennis-jugendtraining/2029-09-04/
LOCATION:Neue Schulturnhalle Fridolfing\, Römerweg\, Fridolfing\, 83413
END:VEVENT
BEGIN:VEVENT
DTSTART;TZID=Europe/Berlin:20290907T180000
DTEND;TZID=Europe/Berlin:20290907T193000
DTSTAMP:20260421T124205
CREATED:20241014T112858Z
LAST-MODIFIED:20241021T164717Z
UID:10013288-1883498400-1883503800@tsv-fridolfing.de
SUMMARY:Tischtennis Jugendtraining
DESCRIPTION:
URL:https://tsv-fridolfing.de/termin/tischtennis-jugendtraining-2/2029-09-07/
LOCATION:Neue Schulturnhalle Fridolfing\, Römerweg\, Fridolfing\, 83413
END:VEVENT
BEGIN:VEVENT
DTSTART;TZID=Europe/Berlin:20290911T180000
DTEND;TZID=Europe/Berlin:20290911T193000
DTSTAMP:20260421T124205
CREATED:20241014T112805Z
LAST-MODIFIED:20241014T135957Z
UID:10013026-1883844000-1883849400@tsv-fridolfing.de
SUMMARY:Tischtennis Jugendtraining
DESCRIPTION:
URL:https://tsv-fridolfing.de/termin/tischtennis-jugendtraining/2029-09-11/
LOCATION:Neue Schulturnhalle Fridolfing\, Römerweg\, Fridolfing\, 83413
END:VEVENT
BEGIN:VEVENT
DTSTART;TZID=Europe/Berlin:20290914T180000
DTEND;TZID=Europe/Berlin:20290914T193000
DTSTAMP:20260421T124205
CREATED:20241014T112858Z
LAST-MODIFIED:20241021T164717Z
UID:10013289-1884103200-1884108600@tsv-fridolfing.de
SUMMARY:Tischtennis Jugendtraining
DESCRIPTION:
URL:https://tsv-fridolfing.de/termin/tischtennis-jugendtraining-2/2029-09-14/
LOCATION:Neue Schulturnhalle Fridolfing\, Römerweg\, Fridolfing\, 83413
END:VEVENT
BEGIN:VEVENT
DTSTART;TZID=Europe/Berlin:20290918T180000
DTEND;TZID=Europe/Berlin:20290918T193000
DTSTAMP:20260421T124205
CREATED:20241014T112805Z
LAST-MODIFIED:20241014T135957Z
UID:10013027-1884448800-1884454200@tsv-fridolfing.de
SUMMARY:Tischtennis Jugendtraining
DESCRIPTION:
URL:https://tsv-fridolfing.de/termin/tischtennis-jugendtraining/2029-09-18/
LOCATION:Neue Schulturnhalle Fridolfing\, Römerweg\, Fridolfing\, 83413
END:VEVENT
BEGIN:VEVENT
DTSTART;TZID=Europe/Berlin:20290921T180000
DTEND;TZID=Europe/Berlin:20290921T193000
DTSTAMP:20260421T124205
CREATED:20241014T112858Z
LAST-MODIFIED:20241021T164717Z
UID:10013290-1884708000-1884713400@tsv-fridolfing.de
SUMMARY:Tischtennis Jugendtraining
DESCRIPTION:
URL:https://tsv-fridolfing.de/termin/tischtennis-jugendtraining-2/2029-09-21/
LOCATION:Neue Schulturnhalle Fridolfing\, Römerweg\, Fridolfing\, 83413
END:VEVENT
BEGIN:VEVENT
DTSTART;TZID=Europe/Berlin:20290925T180000
DTEND;TZID=Europe/Berlin:20290925T193000
DTSTAMP:20260421T124205
CREATED:20241014T112805Z
LAST-MODIFIED:20241014T135957Z
UID:10013028-1885053600-1885059000@tsv-fridolfing.de
SUMMARY:Tischtennis Jugendtraining
DESCRIPTION:
URL:https://tsv-fridolfing.de/termin/tischtennis-jugendtraining/2029-09-25/
LOCATION:Neue Schulturnhalle Fridolfing\, Römerweg\, Fridolfing\, 83413
END:VEVENT
BEGIN:VEVENT
DTSTART;TZID=Europe/Berlin:20290928T180000
DTEND;TZID=Europe/Berlin:20290928T193000
DTSTAMP:20260421T124205
CREATED:20241014T112858Z
LAST-MODIFIED:20241021T164717Z
UID:10013291-1885312800-1885318200@tsv-fridolfing.de
SUMMARY:Tischtennis Jugendtraining
DESCRIPTION:
URL:https://tsv-fridolfing.de/termin/tischtennis-jugendtraining-2/2029-09-28/
LOCATION:Neue Schulturnhalle Fridolfing\, Römerweg\, Fridolfing\, 83413
END:VEVENT
BEGIN:VEVENT
DTSTART;TZID=Europe/Berlin:20291002T180000
DTEND;TZID=Europe/Berlin:20291002T193000
DTSTAMP:20260421T124205
CREATED:20241014T112805Z
LAST-MODIFIED:20241014T135957Z
UID:10013029-1885658400-1885663800@tsv-fridolfing.de
SUMMARY:Tischtennis Jugendtraining
DESCRIPTION:
URL:https://tsv-fridolfing.de/termin/tischtennis-jugendtraining/2029-10-02/
LOCATION:Neue Schulturnhalle Fridolfing\, Römerweg\, Fridolfing\, 83413
END:VEVENT
BEGIN:VEVENT
DTSTART;TZID=Europe/Berlin:20291005T180000
DTEND;TZID=Europe/Berlin:20291005T193000
DTSTAMP:20260421T124205
CREATED:20241014T112858Z
LAST-MODIFIED:20241021T164717Z
UID:10013292-1885917600-1885923000@tsv-fridolfing.de
SUMMARY:Tischtennis Jugendtraining
DESCRIPTION:
URL:https://tsv-fridolfing.de/termin/tischtennis-jugendtraining-2/2029-10-05/
LOCATION:Neue Schulturnhalle Fridolfing\, Römerweg\, Fridolfing\, 83413
END:VEVENT
BEGIN:VEVENT
DTSTART;TZID=Europe/Berlin:20291009T180000
DTEND;TZID=Europe/Berlin:20291009T193000
DTSTAMP:20260421T124205
CREATED:20241014T112805Z
LAST-MODIFIED:20241014T135957Z
UID:10013030-1886263200-1886268600@tsv-fridolfing.de
SUMMARY:Tischtennis Jugendtraining
DESCRIPTION:
URL:https://tsv-fridolfing.de/termin/tischtennis-jugendtraining/2029-10-09/
LOCATION:Neue Schulturnhalle Fridolfing\, Römerweg\, Fridolfing\, 83413
END:VEVENT
BEGIN:VEVENT
DTSTART;TZID=Europe/Berlin:20291012T180000
DTEND;TZID=Europe/Berlin:20291012T193000
DTSTAMP:20260421T124205
CREATED:20241014T112858Z
LAST-MODIFIED:20241021T164717Z
UID:10013293-1886522400-1886527800@tsv-fridolfing.de
SUMMARY:Tischtennis Jugendtraining
DESCRIPTION:
URL:https://tsv-fridolfing.de/termin/tischtennis-jugendtraining-2/2029-10-12/
LOCATION:Neue Schulturnhalle Fridolfing\, Römerweg\, Fridolfing\, 83413
END:VEVENT
BEGIN:VEVENT
DTSTART;TZID=Europe/Berlin:20291019T180000
DTEND;TZID=Europe/Berlin:20291019T193000
DTSTAMP:20260421T124205
CREATED:20241014T112858Z
LAST-MODIFIED:20241021T164717Z
UID:10017663-1887127200-1887132600@tsv-fridolfing.de
SUMMARY:Tischtennis Jugendtraining
DESCRIPTION:
URL:https://tsv-fridolfing.de/termin/tischtennis-jugendtraining-2/2029-10-19/
LOCATION:Neue Schulturnhalle Fridolfing\, Römerweg\, Fridolfing\, 83413
END:VEVENT
BEGIN:VEVENT
DTSTART;TZID=Europe/Berlin:20291026T180000
DTEND;TZID=Europe/Berlin:20291026T193000
DTSTAMP:20260421T124205
CREATED:20241014T112858Z
LAST-MODIFIED:20241021T164717Z
UID:10017664-1887732000-1887737400@tsv-fridolfing.de
SUMMARY:Tischtennis Jugendtraining
DESCRIPTION:
URL:https://tsv-fridolfing.de/termin/tischtennis-jugendtraining-2/2029-10-26/
LOCATION:Neue Schulturnhalle Fridolfing\, Römerweg\, Fridolfing\, 83413
END:VEVENT
BEGIN:VEVENT
DTSTART;TZID=Europe/Berlin:20291102T180000
DTEND;TZID=Europe/Berlin:20291102T193000
DTSTAMP:20260421T124205
CREATED:20241014T112858Z
LAST-MODIFIED:20241021T164717Z
UID:10017665-1888336800-1888342200@tsv-fridolfing.de
SUMMARY:Tischtennis Jugendtraining
DESCRIPTION:
URL:https://tsv-fridolfing.de/termin/tischtennis-jugendtraining-2/2029-11-02/
LOCATION:Neue Schulturnhalle Fridolfing\, Römerweg\, Fridolfing\, 83413
END:VEVENT
BEGIN:VEVENT
DTSTART;TZID=Europe/Berlin:20291109T180000
DTEND;TZID=Europe/Berlin:20291109T193000
DTSTAMP:20260421T124205
CREATED:20241014T112858Z
LAST-MODIFIED:20241021T164717Z
UID:10017666-1888941600-1888947000@tsv-fridolfing.de
SUMMARY:Tischtennis Jugendtraining
DESCRIPTION:
URL:https://tsv-fridolfing.de/termin/tischtennis-jugendtraining-2/2029-11-09/
LOCATION:Neue Schulturnhalle Fridolfing\, Römerweg\, Fridolfing\, 83413
END:VEVENT
END:VCALENDAR