BEGIN:VCALENDAR
VERSION:2.0
PRODID:-//TSV Fridolfing - ECPv6.15.20//NONSGML v1.0//EN
CALSCALE:GREGORIAN
METHOD:PUBLISH
X-ORIGINAL-URL:https://tsv-fridolfing.de
X-WR-CALDESC:Veranstaltungen für TSV Fridolfing
REFRESH-INTERVAL;VALUE=DURATION:PT1H
X-Robots-Tag:noindex
X-PUBLISHED-TTL:PT1H
BEGIN:VTIMEZONE
TZID:Europe/Berlin
BEGIN:DAYLIGHT
TZOFFSETFROM:+0100
TZOFFSETTO:+0200
TZNAME:CEST
DTSTART:20280326T010000
END:DAYLIGHT
BEGIN:STANDARD
TZOFFSETFROM:+0200
TZOFFSETTO:+0100
TZNAME:CET
DTSTART:20281029T010000
END:STANDARD
BEGIN:DAYLIGHT
TZOFFSETFROM:+0100
TZOFFSETTO:+0200
TZNAME:CEST
DTSTART:20290325T010000
END:DAYLIGHT
BEGIN:STANDARD
TZOFFSETFROM:+0200
TZOFFSETTO:+0100
TZNAME:CET
DTSTART:20291028T010000
END:STANDARD
BEGIN:DAYLIGHT
TZOFFSETFROM:+0100
TZOFFSETTO:+0200
TZNAME:CEST
DTSTART:20300331T010000
END:DAYLIGHT
BEGIN:STANDARD
TZOFFSETFROM:+0200
TZOFFSETTO:+0100
TZNAME:CET
DTSTART:20301027T010000
END:STANDARD
END:VTIMEZONE
BEGIN:VEVENT
DTSTART;TZID=Europe/Berlin:20290314T170000
DTEND;TZID=Europe/Berlin:20290314T170000
DTSTAMP:20260424T124419
CREATED:20241014T131403Z
LAST-MODIFIED:20241021T164753Z
UID:10014312-1868202000-1868202000@tsv-fridolfing.de
SUMMARY:Tennis Damen
DESCRIPTION:
URL:https://tsv-fridolfing.de/termin/tennis-damen/2029-03-14/
END:VEVENT
BEGIN:VEVENT
DTSTART;TZID=Europe/Berlin:20290321T170000
DTEND;TZID=Europe/Berlin:20290321T170000
DTSTAMP:20260424T124419
CREATED:20241014T131403Z
LAST-MODIFIED:20241021T164753Z
UID:10014313-1868806800-1868806800@tsv-fridolfing.de
SUMMARY:Tennis Damen
DESCRIPTION:
URL:https://tsv-fridolfing.de/termin/tennis-damen/2029-03-21/
END:VEVENT
BEGIN:VEVENT
DTSTART;TZID=Europe/Berlin:20290328T170000
DTEND;TZID=Europe/Berlin:20290328T170000
DTSTAMP:20260424T124419
CREATED:20241014T131403Z
LAST-MODIFIED:20241021T164753Z
UID:10014314-1869411600-1869411600@tsv-fridolfing.de
SUMMARY:Tennis Damen
DESCRIPTION:
URL:https://tsv-fridolfing.de/termin/tennis-damen/2029-03-28/
END:VEVENT
BEGIN:VEVENT
DTSTART;TZID=Europe/Berlin:20290404T170000
DTEND;TZID=Europe/Berlin:20290404T170000
DTSTAMP:20260424T124419
CREATED:20241014T131403Z
LAST-MODIFIED:20241021T164753Z
UID:10014315-1870016400-1870016400@tsv-fridolfing.de
SUMMARY:Tennis Damen
DESCRIPTION:
URL:https://tsv-fridolfing.de/termin/tennis-damen/2029-04-04/
END:VEVENT
BEGIN:VEVENT
DTSTART;TZID=Europe/Berlin:20290411T170000
DTEND;TZID=Europe/Berlin:20290411T170000
DTSTAMP:20260424T124419
CREATED:20241014T131403Z
LAST-MODIFIED:20241021T164753Z
UID:10014316-1870621200-1870621200@tsv-fridolfing.de
SUMMARY:Tennis Damen
DESCRIPTION:
URL:https://tsv-fridolfing.de/termin/tennis-damen/2029-04-11/
END:VEVENT
BEGIN:VEVENT
DTSTART;TZID=Europe/Berlin:20290418T170000
DTEND;TZID=Europe/Berlin:20290418T170000
DTSTAMP:20260424T124419
CREATED:20241014T131403Z
LAST-MODIFIED:20241021T164753Z
UID:10014317-1871226000-1871226000@tsv-fridolfing.de
SUMMARY:Tennis Damen
DESCRIPTION:
URL:https://tsv-fridolfing.de/termin/tennis-damen/2029-04-18/
END:VEVENT
BEGIN:VEVENT
DTSTART;TZID=Europe/Berlin:20290425T170000
DTEND;TZID=Europe/Berlin:20290425T170000
DTSTAMP:20260424T124419
CREATED:20241014T131403Z
LAST-MODIFIED:20241021T164753Z
UID:10014318-1871830800-1871830800@tsv-fridolfing.de
SUMMARY:Tennis Damen
DESCRIPTION:
URL:https://tsv-fridolfing.de/termin/tennis-damen/2029-04-25/
END:VEVENT
BEGIN:VEVENT
DTSTART;TZID=Europe/Berlin:20290502T170000
DTEND;TZID=Europe/Berlin:20290502T170000
DTSTAMP:20260424T124419
CREATED:20241014T131403Z
LAST-MODIFIED:20241021T164753Z
UID:10014319-1872435600-1872435600@tsv-fridolfing.de
SUMMARY:Tennis Damen
DESCRIPTION:
URL:https://tsv-fridolfing.de/termin/tennis-damen/2029-05-02/
END:VEVENT
BEGIN:VEVENT
DTSTART;TZID=Europe/Berlin:20290509T170000
DTEND;TZID=Europe/Berlin:20290509T170000
DTSTAMP:20260424T124419
CREATED:20241014T131403Z
LAST-MODIFIED:20241021T164753Z
UID:10014320-1873040400-1873040400@tsv-fridolfing.de
SUMMARY:Tennis Damen
DESCRIPTION:
URL:https://tsv-fridolfing.de/termin/tennis-damen/2029-05-09/
END:VEVENT
BEGIN:VEVENT
DTSTART;TZID=Europe/Berlin:20290516T170000
DTEND;TZID=Europe/Berlin:20290516T170000
DTSTAMP:20260424T124419
CREATED:20241014T131403Z
LAST-MODIFIED:20241021T164753Z
UID:10014321-1873645200-1873645200@tsv-fridolfing.de
SUMMARY:Tennis Damen
DESCRIPTION:
URL:https://tsv-fridolfing.de/termin/tennis-damen/2029-05-16/
END:VEVENT
BEGIN:VEVENT
DTSTART;TZID=Europe/Berlin:20290523T170000
DTEND;TZID=Europe/Berlin:20290523T170000
DTSTAMP:20260424T124419
CREATED:20241014T131403Z
LAST-MODIFIED:20241021T164753Z
UID:10014322-1874250000-1874250000@tsv-fridolfing.de
SUMMARY:Tennis Damen
DESCRIPTION:
URL:https://tsv-fridolfing.de/termin/tennis-damen/2029-05-23/
END:VEVENT
BEGIN:VEVENT
DTSTART;TZID=Europe/Berlin:20290530T170000
DTEND;TZID=Europe/Berlin:20290530T170000
DTSTAMP:20260424T124419
CREATED:20241014T131403Z
LAST-MODIFIED:20241021T164753Z
UID:10014323-1874854800-1874854800@tsv-fridolfing.de
SUMMARY:Tennis Damen
DESCRIPTION:
URL:https://tsv-fridolfing.de/termin/tennis-damen/2029-05-30/
END:VEVENT
BEGIN:VEVENT
DTSTART;TZID=Europe/Berlin:20290606T170000
DTEND;TZID=Europe/Berlin:20290606T170000
DTSTAMP:20260424T124419
CREATED:20241014T131403Z
LAST-MODIFIED:20241021T164753Z
UID:10014324-1875459600-1875459600@tsv-fridolfing.de
SUMMARY:Tennis Damen
DESCRIPTION:
URL:https://tsv-fridolfing.de/termin/tennis-damen/2029-06-06/
END:VEVENT
BEGIN:VEVENT
DTSTART;TZID=Europe/Berlin:20290613T170000
DTEND;TZID=Europe/Berlin:20290613T170000
DTSTAMP:20260424T124419
CREATED:20241014T131403Z
LAST-MODIFIED:20241021T164753Z
UID:10014325-1876064400-1876064400@tsv-fridolfing.de
SUMMARY:Tennis Damen
DESCRIPTION:
URL:https://tsv-fridolfing.de/termin/tennis-damen/2029-06-13/
END:VEVENT
BEGIN:VEVENT
DTSTART;TZID=Europe/Berlin:20290620T170000
DTEND;TZID=Europe/Berlin:20290620T170000
DTSTAMP:20260424T124419
CREATED:20241014T131403Z
LAST-MODIFIED:20241021T164753Z
UID:10014326-1876669200-1876669200@tsv-fridolfing.de
SUMMARY:Tennis Damen
DESCRIPTION:
URL:https://tsv-fridolfing.de/termin/tennis-damen/2029-06-20/
END:VEVENT
BEGIN:VEVENT
DTSTART;TZID=Europe/Berlin:20290627T170000
DTEND;TZID=Europe/Berlin:20290627T170000
DTSTAMP:20260424T124419
CREATED:20241014T131403Z
LAST-MODIFIED:20241021T164753Z
UID:10014327-1877274000-1877274000@tsv-fridolfing.de
SUMMARY:Tennis Damen
DESCRIPTION:
URL:https://tsv-fridolfing.de/termin/tennis-damen/2029-06-27/
END:VEVENT
BEGIN:VEVENT
DTSTART;TZID=Europe/Berlin:20290704T170000
DTEND;TZID=Europe/Berlin:20290704T170000
DTSTAMP:20260424T124419
CREATED:20241014T131403Z
LAST-MODIFIED:20241021T164753Z
UID:10014328-1877878800-1877878800@tsv-fridolfing.de
SUMMARY:Tennis Damen
DESCRIPTION:
URL:https://tsv-fridolfing.de/termin/tennis-damen/2029-07-04/
END:VEVENT
BEGIN:VEVENT
DTSTART;TZID=Europe/Berlin:20290711T170000
DTEND;TZID=Europe/Berlin:20290711T170000
DTSTAMP:20260424T124419
CREATED:20241014T131403Z
LAST-MODIFIED:20241021T164753Z
UID:10014329-1878483600-1878483600@tsv-fridolfing.de
SUMMARY:Tennis Damen
DESCRIPTION:
URL:https://tsv-fridolfing.de/termin/tennis-damen/2029-07-11/
END:VEVENT
BEGIN:VEVENT
DTSTART;TZID=Europe/Berlin:20290718T170000
DTEND;TZID=Europe/Berlin:20290718T170000
DTSTAMP:20260424T124419
CREATED:20241014T131403Z
LAST-MODIFIED:20241021T164753Z
UID:10014330-1879088400-1879088400@tsv-fridolfing.de
SUMMARY:Tennis Damen
DESCRIPTION:
URL:https://tsv-fridolfing.de/termin/tennis-damen/2029-07-18/
END:VEVENT
BEGIN:VEVENT
DTSTART;TZID=Europe/Berlin:20290725T170000
DTEND;TZID=Europe/Berlin:20290725T170000
DTSTAMP:20260424T124419
CREATED:20241014T131403Z
LAST-MODIFIED:20241021T164753Z
UID:10014331-1879693200-1879693200@tsv-fridolfing.de
SUMMARY:Tennis Damen
DESCRIPTION:
URL:https://tsv-fridolfing.de/termin/tennis-damen/2029-07-25/
END:VEVENT
BEGIN:VEVENT
DTSTART;TZID=Europe/Berlin:20290801T170000
DTEND;TZID=Europe/Berlin:20290801T170000
DTSTAMP:20260424T124419
CREATED:20241014T131403Z
LAST-MODIFIED:20241021T164753Z
UID:10014332-1880298000-1880298000@tsv-fridolfing.de
SUMMARY:Tennis Damen
DESCRIPTION:
URL:https://tsv-fridolfing.de/termin/tennis-damen/2029-08-01/
END:VEVENT
BEGIN:VEVENT
DTSTART;TZID=Europe/Berlin:20290808T170000
DTEND;TZID=Europe/Berlin:20290808T170000
DTSTAMP:20260424T124419
CREATED:20241014T131403Z
LAST-MODIFIED:20241021T164753Z
UID:10014333-1880902800-1880902800@tsv-fridolfing.de
SUMMARY:Tennis Damen
DESCRIPTION:
URL:https://tsv-fridolfing.de/termin/tennis-damen/2029-08-08/
END:VEVENT
BEGIN:VEVENT
DTSTART;TZID=Europe/Berlin:20290815T170000
DTEND;TZID=Europe/Berlin:20290815T170000
DTSTAMP:20260424T124419
CREATED:20241014T131403Z
LAST-MODIFIED:20241021T164753Z
UID:10014334-1881507600-1881507600@tsv-fridolfing.de
SUMMARY:Tennis Damen
DESCRIPTION:
URL:https://tsv-fridolfing.de/termin/tennis-damen/2029-08-15/
END:VEVENT
BEGIN:VEVENT
DTSTART;TZID=Europe/Berlin:20290822T170000
DTEND;TZID=Europe/Berlin:20290822T170000
DTSTAMP:20260424T124419
CREATED:20241014T131403Z
LAST-MODIFIED:20241021T164753Z
UID:10014335-1882112400-1882112400@tsv-fridolfing.de
SUMMARY:Tennis Damen
DESCRIPTION:
URL:https://tsv-fridolfing.de/termin/tennis-damen/2029-08-22/
END:VEVENT
BEGIN:VEVENT
DTSTART;TZID=Europe/Berlin:20290829T170000
DTEND;TZID=Europe/Berlin:20290829T170000
DTSTAMP:20260424T124419
CREATED:20241014T131403Z
LAST-MODIFIED:20241021T164753Z
UID:10014336-1882717200-1882717200@tsv-fridolfing.de
SUMMARY:Tennis Damen
DESCRIPTION:
URL:https://tsv-fridolfing.de/termin/tennis-damen/2029-08-29/
END:VEVENT
BEGIN:VEVENT
DTSTART;TZID=Europe/Berlin:20290905T170000
DTEND;TZID=Europe/Berlin:20290905T170000
DTSTAMP:20260424T124419
CREATED:20241014T131403Z
LAST-MODIFIED:20241021T164753Z
UID:10014337-1883322000-1883322000@tsv-fridolfing.de
SUMMARY:Tennis Damen
DESCRIPTION:
URL:https://tsv-fridolfing.de/termin/tennis-damen/2029-09-05/
END:VEVENT
BEGIN:VEVENT
DTSTART;TZID=Europe/Berlin:20290912T170000
DTEND;TZID=Europe/Berlin:20290912T170000
DTSTAMP:20260424T124419
CREATED:20241014T131403Z
LAST-MODIFIED:20241021T164753Z
UID:10014338-1883926800-1883926800@tsv-fridolfing.de
SUMMARY:Tennis Damen
DESCRIPTION:
URL:https://tsv-fridolfing.de/termin/tennis-damen/2029-09-12/
END:VEVENT
BEGIN:VEVENT
DTSTART;TZID=Europe/Berlin:20290919T170000
DTEND;TZID=Europe/Berlin:20290919T170000
DTSTAMP:20260424T124419
CREATED:20241014T131403Z
LAST-MODIFIED:20241021T164753Z
UID:10014339-1884531600-1884531600@tsv-fridolfing.de
SUMMARY:Tennis Damen
DESCRIPTION:
URL:https://tsv-fridolfing.de/termin/tennis-damen/2029-09-19/
END:VEVENT
BEGIN:VEVENT
DTSTART;TZID=Europe/Berlin:20290926T170000
DTEND;TZID=Europe/Berlin:20290926T170000
DTSTAMP:20260424T124419
CREATED:20241014T131403Z
LAST-MODIFIED:20241021T164753Z
UID:10014340-1885136400-1885136400@tsv-fridolfing.de
SUMMARY:Tennis Damen
DESCRIPTION:
URL:https://tsv-fridolfing.de/termin/tennis-damen/2029-09-26/
END:VEVENT
BEGIN:VEVENT
DTSTART;TZID=Europe/Berlin:20291003T170000
DTEND;TZID=Europe/Berlin:20291003T170000
DTSTAMP:20260424T124419
CREATED:20241014T131403Z
LAST-MODIFIED:20241021T164753Z
UID:10014341-1885741200-1885741200@tsv-fridolfing.de
SUMMARY:Tennis Damen
DESCRIPTION:
URL:https://tsv-fridolfing.de/termin/tennis-damen/2029-10-03/
END:VEVENT
END:VCALENDAR