BEGIN:VCALENDAR
VERSION:2.0
PRODID:-//TSV Fridolfing - ECPv6.15.20//NONSGML v1.0//EN
CALSCALE:GREGORIAN
METHOD:PUBLISH
X-ORIGINAL-URL:https://tsv-fridolfing.de
X-WR-CALDESC:Veranstaltungen für TSV Fridolfing
REFRESH-INTERVAL;VALUE=DURATION:PT1H
X-Robots-Tag:noindex
X-PUBLISHED-TTL:PT1H
BEGIN:VTIMEZONE
TZID:Europe/Berlin
BEGIN:DAYLIGHT
TZOFFSETFROM:+0100
TZOFFSETTO:+0200
TZNAME:CEST
DTSTART:20280326T010000
END:DAYLIGHT
BEGIN:STANDARD
TZOFFSETFROM:+0200
TZOFFSETTO:+0100
TZNAME:CET
DTSTART:20281029T010000
END:STANDARD
BEGIN:DAYLIGHT
TZOFFSETFROM:+0100
TZOFFSETTO:+0200
TZNAME:CEST
DTSTART:20290325T010000
END:DAYLIGHT
BEGIN:STANDARD
TZOFFSETFROM:+0200
TZOFFSETTO:+0100
TZNAME:CET
DTSTART:20291028T010000
END:STANDARD
BEGIN:DAYLIGHT
TZOFFSETFROM:+0100
TZOFFSETTO:+0200
TZNAME:CEST
DTSTART:20300331T010000
END:DAYLIGHT
BEGIN:STANDARD
TZOFFSETFROM:+0200
TZOFFSETTO:+0100
TZNAME:CET
DTSTART:20301027T010000
END:STANDARD
END:VTIMEZONE
BEGIN:VEVENT
DTSTART;TZID=Europe/Berlin:20290313T180000
DTEND;TZID=Europe/Berlin:20290313T180000
DTSTAMP:20260425T125412
CREATED:20241014T131134Z
LAST-MODIFIED:20241021T164651Z
UID:10013788-1868119200-1868119200@tsv-fridolfing.de
SUMMARY:Tennis Dienstagsrunde
DESCRIPTION:
URL:https://tsv-fridolfing.de/termin/dienstagsrunde/2029-03-13/
LOCATION:Tennisplatz Fridolfing\, Laufener Str. 23\, Fridolfing\, 83413\, Germany
END:VEVENT
BEGIN:VEVENT
DTSTART;TZID=Europe/Berlin:20290320T180000
DTEND;TZID=Europe/Berlin:20290320T180000
DTSTAMP:20260425T125412
CREATED:20241014T131134Z
LAST-MODIFIED:20241021T164651Z
UID:10013789-1868724000-1868724000@tsv-fridolfing.de
SUMMARY:Tennis Dienstagsrunde
DESCRIPTION:
URL:https://tsv-fridolfing.de/termin/dienstagsrunde/2029-03-20/
LOCATION:Tennisplatz Fridolfing\, Laufener Str. 23\, Fridolfing\, 83413\, Germany
END:VEVENT
BEGIN:VEVENT
DTSTART;TZID=Europe/Berlin:20290327T180000
DTEND;TZID=Europe/Berlin:20290327T180000
DTSTAMP:20260425T125412
CREATED:20241014T131134Z
LAST-MODIFIED:20241021T164651Z
UID:10013790-1869328800-1869328800@tsv-fridolfing.de
SUMMARY:Tennis Dienstagsrunde
DESCRIPTION:
URL:https://tsv-fridolfing.de/termin/dienstagsrunde/2029-03-27/
LOCATION:Tennisplatz Fridolfing\, Laufener Str. 23\, Fridolfing\, 83413\, Germany
END:VEVENT
BEGIN:VEVENT
DTSTART;TZID=Europe/Berlin:20290403T180000
DTEND;TZID=Europe/Berlin:20290403T180000
DTSTAMP:20260425T125412
CREATED:20241014T131134Z
LAST-MODIFIED:20241021T164651Z
UID:10013791-1869933600-1869933600@tsv-fridolfing.de
SUMMARY:Tennis Dienstagsrunde
DESCRIPTION:
URL:https://tsv-fridolfing.de/termin/dienstagsrunde/2029-04-03/
LOCATION:Tennisplatz Fridolfing\, Laufener Str. 23\, Fridolfing\, 83413\, Germany
END:VEVENT
BEGIN:VEVENT
DTSTART;TZID=Europe/Berlin:20290410T180000
DTEND;TZID=Europe/Berlin:20290410T180000
DTSTAMP:20260425T125412
CREATED:20241014T131134Z
LAST-MODIFIED:20241021T164651Z
UID:10013792-1870538400-1870538400@tsv-fridolfing.de
SUMMARY:Tennis Dienstagsrunde
DESCRIPTION:
URL:https://tsv-fridolfing.de/termin/dienstagsrunde/2029-04-10/
LOCATION:Tennisplatz Fridolfing\, Laufener Str. 23\, Fridolfing\, 83413\, Germany
END:VEVENT
BEGIN:VEVENT
DTSTART;TZID=Europe/Berlin:20290417T180000
DTEND;TZID=Europe/Berlin:20290417T180000
DTSTAMP:20260425T125412
CREATED:20241014T131134Z
LAST-MODIFIED:20241021T164651Z
UID:10013793-1871143200-1871143200@tsv-fridolfing.de
SUMMARY:Tennis Dienstagsrunde
DESCRIPTION:
URL:https://tsv-fridolfing.de/termin/dienstagsrunde/2029-04-17/
LOCATION:Tennisplatz Fridolfing\, Laufener Str. 23\, Fridolfing\, 83413\, Germany
END:VEVENT
BEGIN:VEVENT
DTSTART;TZID=Europe/Berlin:20290424T180000
DTEND;TZID=Europe/Berlin:20290424T180000
DTSTAMP:20260425T125412
CREATED:20241014T131134Z
LAST-MODIFIED:20241021T164651Z
UID:10013794-1871748000-1871748000@tsv-fridolfing.de
SUMMARY:Tennis Dienstagsrunde
DESCRIPTION:
URL:https://tsv-fridolfing.de/termin/dienstagsrunde/2029-04-24/
LOCATION:Tennisplatz Fridolfing\, Laufener Str. 23\, Fridolfing\, 83413\, Germany
END:VEVENT
BEGIN:VEVENT
DTSTART;TZID=Europe/Berlin:20290501T180000
DTEND;TZID=Europe/Berlin:20290501T180000
DTSTAMP:20260425T125412
CREATED:20241014T131134Z
LAST-MODIFIED:20241021T164651Z
UID:10013795-1872352800-1872352800@tsv-fridolfing.de
SUMMARY:Tennis Dienstagsrunde
DESCRIPTION:
URL:https://tsv-fridolfing.de/termin/dienstagsrunde/2029-05-01/
LOCATION:Tennisplatz Fridolfing\, Laufener Str. 23\, Fridolfing\, 83413\, Germany
END:VEVENT
BEGIN:VEVENT
DTSTART;TZID=Europe/Berlin:20290508T180000
DTEND;TZID=Europe/Berlin:20290508T180000
DTSTAMP:20260425T125412
CREATED:20241014T131134Z
LAST-MODIFIED:20241021T164651Z
UID:10013796-1872957600-1872957600@tsv-fridolfing.de
SUMMARY:Tennis Dienstagsrunde
DESCRIPTION:
URL:https://tsv-fridolfing.de/termin/dienstagsrunde/2029-05-08/
LOCATION:Tennisplatz Fridolfing\, Laufener Str. 23\, Fridolfing\, 83413\, Germany
END:VEVENT
BEGIN:VEVENT
DTSTART;TZID=Europe/Berlin:20290515T180000
DTEND;TZID=Europe/Berlin:20290515T180000
DTSTAMP:20260425T125412
CREATED:20241014T131134Z
LAST-MODIFIED:20241021T164651Z
UID:10013797-1873562400-1873562400@tsv-fridolfing.de
SUMMARY:Tennis Dienstagsrunde
DESCRIPTION:
URL:https://tsv-fridolfing.de/termin/dienstagsrunde/2029-05-15/
LOCATION:Tennisplatz Fridolfing\, Laufener Str. 23\, Fridolfing\, 83413\, Germany
END:VEVENT
BEGIN:VEVENT
DTSTART;TZID=Europe/Berlin:20290522T180000
DTEND;TZID=Europe/Berlin:20290522T180000
DTSTAMP:20260425T125412
CREATED:20241014T131134Z
LAST-MODIFIED:20241021T164651Z
UID:10013798-1874167200-1874167200@tsv-fridolfing.de
SUMMARY:Tennis Dienstagsrunde
DESCRIPTION:
URL:https://tsv-fridolfing.de/termin/dienstagsrunde/2029-05-22/
LOCATION:Tennisplatz Fridolfing\, Laufener Str. 23\, Fridolfing\, 83413\, Germany
END:VEVENT
BEGIN:VEVENT
DTSTART;TZID=Europe/Berlin:20290529T180000
DTEND;TZID=Europe/Berlin:20290529T180000
DTSTAMP:20260425T125412
CREATED:20241014T131134Z
LAST-MODIFIED:20241021T164651Z
UID:10013799-1874772000-1874772000@tsv-fridolfing.de
SUMMARY:Tennis Dienstagsrunde
DESCRIPTION:
URL:https://tsv-fridolfing.de/termin/dienstagsrunde/2029-05-29/
LOCATION:Tennisplatz Fridolfing\, Laufener Str. 23\, Fridolfing\, 83413\, Germany
END:VEVENT
BEGIN:VEVENT
DTSTART;TZID=Europe/Berlin:20290605T180000
DTEND;TZID=Europe/Berlin:20290605T180000
DTSTAMP:20260425T125412
CREATED:20241014T131134Z
LAST-MODIFIED:20241021T164651Z
UID:10013800-1875376800-1875376800@tsv-fridolfing.de
SUMMARY:Tennis Dienstagsrunde
DESCRIPTION:
URL:https://tsv-fridolfing.de/termin/dienstagsrunde/2029-06-05/
LOCATION:Tennisplatz Fridolfing\, Laufener Str. 23\, Fridolfing\, 83413\, Germany
END:VEVENT
BEGIN:VEVENT
DTSTART;TZID=Europe/Berlin:20290612T180000
DTEND;TZID=Europe/Berlin:20290612T180000
DTSTAMP:20260425T125412
CREATED:20241014T131134Z
LAST-MODIFIED:20241021T164651Z
UID:10013801-1875981600-1875981600@tsv-fridolfing.de
SUMMARY:Tennis Dienstagsrunde
DESCRIPTION:
URL:https://tsv-fridolfing.de/termin/dienstagsrunde/2029-06-12/
LOCATION:Tennisplatz Fridolfing\, Laufener Str. 23\, Fridolfing\, 83413\, Germany
END:VEVENT
BEGIN:VEVENT
DTSTART;TZID=Europe/Berlin:20290619T180000
DTEND;TZID=Europe/Berlin:20290619T180000
DTSTAMP:20260425T125412
CREATED:20241014T131134Z
LAST-MODIFIED:20241021T164651Z
UID:10013802-1876586400-1876586400@tsv-fridolfing.de
SUMMARY:Tennis Dienstagsrunde
DESCRIPTION:
URL:https://tsv-fridolfing.de/termin/dienstagsrunde/2029-06-19/
LOCATION:Tennisplatz Fridolfing\, Laufener Str. 23\, Fridolfing\, 83413\, Germany
END:VEVENT
BEGIN:VEVENT
DTSTART;TZID=Europe/Berlin:20290626T180000
DTEND;TZID=Europe/Berlin:20290626T180000
DTSTAMP:20260425T125412
CREATED:20241014T131134Z
LAST-MODIFIED:20241021T164651Z
UID:10013803-1877191200-1877191200@tsv-fridolfing.de
SUMMARY:Tennis Dienstagsrunde
DESCRIPTION:
URL:https://tsv-fridolfing.de/termin/dienstagsrunde/2029-06-26/
LOCATION:Tennisplatz Fridolfing\, Laufener Str. 23\, Fridolfing\, 83413\, Germany
END:VEVENT
BEGIN:VEVENT
DTSTART;TZID=Europe/Berlin:20290703T180000
DTEND;TZID=Europe/Berlin:20290703T180000
DTSTAMP:20260425T125412
CREATED:20241014T131134Z
LAST-MODIFIED:20241021T164651Z
UID:10013804-1877796000-1877796000@tsv-fridolfing.de
SUMMARY:Tennis Dienstagsrunde
DESCRIPTION:
URL:https://tsv-fridolfing.de/termin/dienstagsrunde/2029-07-03/
LOCATION:Tennisplatz Fridolfing\, Laufener Str. 23\, Fridolfing\, 83413\, Germany
END:VEVENT
BEGIN:VEVENT
DTSTART;TZID=Europe/Berlin:20290710T180000
DTEND;TZID=Europe/Berlin:20290710T180000
DTSTAMP:20260425T125412
CREATED:20241014T131134Z
LAST-MODIFIED:20241021T164651Z
UID:10013805-1878400800-1878400800@tsv-fridolfing.de
SUMMARY:Tennis Dienstagsrunde
DESCRIPTION:
URL:https://tsv-fridolfing.de/termin/dienstagsrunde/2029-07-10/
LOCATION:Tennisplatz Fridolfing\, Laufener Str. 23\, Fridolfing\, 83413\, Germany
END:VEVENT
BEGIN:VEVENT
DTSTART;TZID=Europe/Berlin:20290717T180000
DTEND;TZID=Europe/Berlin:20290717T180000
DTSTAMP:20260425T125412
CREATED:20241014T131134Z
LAST-MODIFIED:20241021T164651Z
UID:10013806-1879005600-1879005600@tsv-fridolfing.de
SUMMARY:Tennis Dienstagsrunde
DESCRIPTION:
URL:https://tsv-fridolfing.de/termin/dienstagsrunde/2029-07-17/
LOCATION:Tennisplatz Fridolfing\, Laufener Str. 23\, Fridolfing\, 83413\, Germany
END:VEVENT
BEGIN:VEVENT
DTSTART;TZID=Europe/Berlin:20290724T180000
DTEND;TZID=Europe/Berlin:20290724T180000
DTSTAMP:20260425T125412
CREATED:20241014T131134Z
LAST-MODIFIED:20241021T164651Z
UID:10013807-1879610400-1879610400@tsv-fridolfing.de
SUMMARY:Tennis Dienstagsrunde
DESCRIPTION:
URL:https://tsv-fridolfing.de/termin/dienstagsrunde/2029-07-24/
LOCATION:Tennisplatz Fridolfing\, Laufener Str. 23\, Fridolfing\, 83413\, Germany
END:VEVENT
BEGIN:VEVENT
DTSTART;TZID=Europe/Berlin:20290731T180000
DTEND;TZID=Europe/Berlin:20290731T180000
DTSTAMP:20260425T125412
CREATED:20241014T131134Z
LAST-MODIFIED:20241021T164651Z
UID:10013808-1880215200-1880215200@tsv-fridolfing.de
SUMMARY:Tennis Dienstagsrunde
DESCRIPTION:
URL:https://tsv-fridolfing.de/termin/dienstagsrunde/2029-07-31/
LOCATION:Tennisplatz Fridolfing\, Laufener Str. 23\, Fridolfing\, 83413\, Germany
END:VEVENT
BEGIN:VEVENT
DTSTART;TZID=Europe/Berlin:20290807T180000
DTEND;TZID=Europe/Berlin:20290807T180000
DTSTAMP:20260425T125412
CREATED:20241014T131134Z
LAST-MODIFIED:20241021T164651Z
UID:10013809-1880820000-1880820000@tsv-fridolfing.de
SUMMARY:Tennis Dienstagsrunde
DESCRIPTION:
URL:https://tsv-fridolfing.de/termin/dienstagsrunde/2029-08-07/
LOCATION:Tennisplatz Fridolfing\, Laufener Str. 23\, Fridolfing\, 83413\, Germany
END:VEVENT
BEGIN:VEVENT
DTSTART;TZID=Europe/Berlin:20290814T180000
DTEND;TZID=Europe/Berlin:20290814T180000
DTSTAMP:20260425T125412
CREATED:20241014T131134Z
LAST-MODIFIED:20241021T164651Z
UID:10013810-1881424800-1881424800@tsv-fridolfing.de
SUMMARY:Tennis Dienstagsrunde
DESCRIPTION:
URL:https://tsv-fridolfing.de/termin/dienstagsrunde/2029-08-14/
LOCATION:Tennisplatz Fridolfing\, Laufener Str. 23\, Fridolfing\, 83413\, Germany
END:VEVENT
BEGIN:VEVENT
DTSTART;TZID=Europe/Berlin:20290821T180000
DTEND;TZID=Europe/Berlin:20290821T180000
DTSTAMP:20260425T125412
CREATED:20241014T131134Z
LAST-MODIFIED:20241021T164651Z
UID:10013811-1882029600-1882029600@tsv-fridolfing.de
SUMMARY:Tennis Dienstagsrunde
DESCRIPTION:
URL:https://tsv-fridolfing.de/termin/dienstagsrunde/2029-08-21/
LOCATION:Tennisplatz Fridolfing\, Laufener Str. 23\, Fridolfing\, 83413\, Germany
END:VEVENT
BEGIN:VEVENT
DTSTART;TZID=Europe/Berlin:20290828T180000
DTEND;TZID=Europe/Berlin:20290828T180000
DTSTAMP:20260425T125412
CREATED:20241014T131134Z
LAST-MODIFIED:20241021T164651Z
UID:10013812-1882634400-1882634400@tsv-fridolfing.de
SUMMARY:Tennis Dienstagsrunde
DESCRIPTION:
URL:https://tsv-fridolfing.de/termin/dienstagsrunde/2029-08-28/
LOCATION:Tennisplatz Fridolfing\, Laufener Str. 23\, Fridolfing\, 83413\, Germany
END:VEVENT
BEGIN:VEVENT
DTSTART;TZID=Europe/Berlin:20290904T180000
DTEND;TZID=Europe/Berlin:20290904T180000
DTSTAMP:20260425T125412
CREATED:20241014T131134Z
LAST-MODIFIED:20241021T164651Z
UID:10013813-1883239200-1883239200@tsv-fridolfing.de
SUMMARY:Tennis Dienstagsrunde
DESCRIPTION:
URL:https://tsv-fridolfing.de/termin/dienstagsrunde/2029-09-04/
LOCATION:Tennisplatz Fridolfing\, Laufener Str. 23\, Fridolfing\, 83413\, Germany
END:VEVENT
BEGIN:VEVENT
DTSTART;TZID=Europe/Berlin:20290911T180000
DTEND;TZID=Europe/Berlin:20290911T180000
DTSTAMP:20260425T125412
CREATED:20241014T131134Z
LAST-MODIFIED:20241021T164651Z
UID:10013814-1883844000-1883844000@tsv-fridolfing.de
SUMMARY:Tennis Dienstagsrunde
DESCRIPTION:
URL:https://tsv-fridolfing.de/termin/dienstagsrunde/2029-09-11/
LOCATION:Tennisplatz Fridolfing\, Laufener Str. 23\, Fridolfing\, 83413\, Germany
END:VEVENT
BEGIN:VEVENT
DTSTART;TZID=Europe/Berlin:20290918T180000
DTEND;TZID=Europe/Berlin:20290918T180000
DTSTAMP:20260425T125412
CREATED:20241014T131134Z
LAST-MODIFIED:20241021T164651Z
UID:10013815-1884448800-1884448800@tsv-fridolfing.de
SUMMARY:Tennis Dienstagsrunde
DESCRIPTION:
URL:https://tsv-fridolfing.de/termin/dienstagsrunde/2029-09-18/
LOCATION:Tennisplatz Fridolfing\, Laufener Str. 23\, Fridolfing\, 83413\, Germany
END:VEVENT
BEGIN:VEVENT
DTSTART;TZID=Europe/Berlin:20290925T180000
DTEND;TZID=Europe/Berlin:20290925T180000
DTSTAMP:20260425T125412
CREATED:20241014T131134Z
LAST-MODIFIED:20241021T164651Z
UID:10013816-1885053600-1885053600@tsv-fridolfing.de
SUMMARY:Tennis Dienstagsrunde
DESCRIPTION:
URL:https://tsv-fridolfing.de/termin/dienstagsrunde/2029-09-25/
LOCATION:Tennisplatz Fridolfing\, Laufener Str. 23\, Fridolfing\, 83413\, Germany
END:VEVENT
BEGIN:VEVENT
DTSTART;TZID=Europe/Berlin:20291002T180000
DTEND;TZID=Europe/Berlin:20291002T180000
DTSTAMP:20260425T125412
CREATED:20241014T131134Z
LAST-MODIFIED:20241021T164651Z
UID:10013817-1885658400-1885658400@tsv-fridolfing.de
SUMMARY:Tennis Dienstagsrunde
DESCRIPTION:
URL:https://tsv-fridolfing.de/termin/dienstagsrunde/2029-10-02/
LOCATION:Tennisplatz Fridolfing\, Laufener Str. 23\, Fridolfing\, 83413\, Germany
END:VEVENT
END:VCALENDAR