BEGIN:VCALENDAR
VERSION:2.0
PRODID:-//TSV Fridolfing - ECPv6.15.20//NONSGML v1.0//EN
CALSCALE:GREGORIAN
METHOD:PUBLISH
X-ORIGINAL-URL:https://tsv-fridolfing.de
X-WR-CALDESC:Veranstaltungen für TSV Fridolfing
REFRESH-INTERVAL;VALUE=DURATION:PT1H
X-Robots-Tag:noindex
X-PUBLISHED-TTL:PT1H
BEGIN:VTIMEZONE
TZID:Europe/Berlin
BEGIN:DAYLIGHT
TZOFFSETFROM:+0100
TZOFFSETTO:+0200
TZNAME:CEST
DTSTART:20270328T010000
END:DAYLIGHT
BEGIN:STANDARD
TZOFFSETFROM:+0200
TZOFFSETTO:+0100
TZNAME:CET
DTSTART:20271031T010000
END:STANDARD
BEGIN:DAYLIGHT
TZOFFSETFROM:+0100
TZOFFSETTO:+0200
TZNAME:CEST
DTSTART:20280326T010000
END:DAYLIGHT
BEGIN:STANDARD
TZOFFSETFROM:+0200
TZOFFSETTO:+0100
TZNAME:CET
DTSTART:20281029T010000
END:STANDARD
BEGIN:DAYLIGHT
TZOFFSETFROM:+0100
TZOFFSETTO:+0200
TZNAME:CEST
DTSTART:20290325T010000
END:DAYLIGHT
BEGIN:STANDARD
TZOFFSETFROM:+0200
TZOFFSETTO:+0100
TZNAME:CET
DTSTART:20291028T010000
END:STANDARD
END:VTIMEZONE
BEGIN:VEVENT
DTSTART;TZID=Europe/Berlin:20280323T180000
DTEND;TZID=Europe/Berlin:20280323T180000
DTSTAMP:20260422T113228
CREATED:20241014T131530Z
LAST-MODIFIED:20241021T164745Z
UID:10014524-1837447200-1837447200@tsv-fridolfing.de
SUMMARY:Tennis Herren 30
DESCRIPTION:
URL:https://tsv-fridolfing.de/termin/tennis-herren-30/2028-03-23/
LOCATION:Tennisplatz Fridolfing\, Laufener Str. 23\, Fridolfing\, 83413\, Germany
END:VEVENT
BEGIN:VEVENT
DTSTART;TZID=Europe/Berlin:20280330T180000
DTEND;TZID=Europe/Berlin:20280330T180000
DTSTAMP:20260422T113228
CREATED:20241014T131530Z
LAST-MODIFIED:20241021T164745Z
UID:10014525-1838052000-1838052000@tsv-fridolfing.de
SUMMARY:Tennis Herren 30
DESCRIPTION:
URL:https://tsv-fridolfing.de/termin/tennis-herren-30/2028-03-30/
LOCATION:Tennisplatz Fridolfing\, Laufener Str. 23\, Fridolfing\, 83413\, Germany
END:VEVENT
BEGIN:VEVENT
DTSTART;TZID=Europe/Berlin:20280406T180000
DTEND;TZID=Europe/Berlin:20280406T180000
DTSTAMP:20260422T113228
CREATED:20241014T131530Z
LAST-MODIFIED:20241021T164745Z
UID:10014526-1838656800-1838656800@tsv-fridolfing.de
SUMMARY:Tennis Herren 30
DESCRIPTION:
URL:https://tsv-fridolfing.de/termin/tennis-herren-30/2028-04-06/
LOCATION:Tennisplatz Fridolfing\, Laufener Str. 23\, Fridolfing\, 83413\, Germany
END:VEVENT
BEGIN:VEVENT
DTSTART;TZID=Europe/Berlin:20280413T180000
DTEND;TZID=Europe/Berlin:20280413T180000
DTSTAMP:20260422T113228
CREATED:20241014T131530Z
LAST-MODIFIED:20241021T164745Z
UID:10014527-1839261600-1839261600@tsv-fridolfing.de
SUMMARY:Tennis Herren 30
DESCRIPTION:
URL:https://tsv-fridolfing.de/termin/tennis-herren-30/2028-04-13/
LOCATION:Tennisplatz Fridolfing\, Laufener Str. 23\, Fridolfing\, 83413\, Germany
END:VEVENT
BEGIN:VEVENT
DTSTART;TZID=Europe/Berlin:20280420T180000
DTEND;TZID=Europe/Berlin:20280420T180000
DTSTAMP:20260422T113228
CREATED:20241014T131530Z
LAST-MODIFIED:20241021T164745Z
UID:10014528-1839866400-1839866400@tsv-fridolfing.de
SUMMARY:Tennis Herren 30
DESCRIPTION:
URL:https://tsv-fridolfing.de/termin/tennis-herren-30/2028-04-20/
LOCATION:Tennisplatz Fridolfing\, Laufener Str. 23\, Fridolfing\, 83413\, Germany
END:VEVENT
BEGIN:VEVENT
DTSTART;TZID=Europe/Berlin:20280427T180000
DTEND;TZID=Europe/Berlin:20280427T180000
DTSTAMP:20260422T113228
CREATED:20241014T131530Z
LAST-MODIFIED:20241021T164745Z
UID:10014529-1840471200-1840471200@tsv-fridolfing.de
SUMMARY:Tennis Herren 30
DESCRIPTION:
URL:https://tsv-fridolfing.de/termin/tennis-herren-30/2028-04-27/
LOCATION:Tennisplatz Fridolfing\, Laufener Str. 23\, Fridolfing\, 83413\, Germany
END:VEVENT
BEGIN:VEVENT
DTSTART;TZID=Europe/Berlin:20280504T180000
DTEND;TZID=Europe/Berlin:20280504T180000
DTSTAMP:20260422T113228
CREATED:20241014T131530Z
LAST-MODIFIED:20241021T164745Z
UID:10014530-1841076000-1841076000@tsv-fridolfing.de
SUMMARY:Tennis Herren 30
DESCRIPTION:
URL:https://tsv-fridolfing.de/termin/tennis-herren-30/2028-05-04/
LOCATION:Tennisplatz Fridolfing\, Laufener Str. 23\, Fridolfing\, 83413\, Germany
END:VEVENT
BEGIN:VEVENT
DTSTART;TZID=Europe/Berlin:20280511T180000
DTEND;TZID=Europe/Berlin:20280511T180000
DTSTAMP:20260422T113228
CREATED:20241014T131530Z
LAST-MODIFIED:20241021T164745Z
UID:10014531-1841680800-1841680800@tsv-fridolfing.de
SUMMARY:Tennis Herren 30
DESCRIPTION:
URL:https://tsv-fridolfing.de/termin/tennis-herren-30/2028-05-11/
LOCATION:Tennisplatz Fridolfing\, Laufener Str. 23\, Fridolfing\, 83413\, Germany
END:VEVENT
BEGIN:VEVENT
DTSTART;TZID=Europe/Berlin:20280518T180000
DTEND;TZID=Europe/Berlin:20280518T180000
DTSTAMP:20260422T113228
CREATED:20241014T131530Z
LAST-MODIFIED:20241021T164745Z
UID:10014532-1842285600-1842285600@tsv-fridolfing.de
SUMMARY:Tennis Herren 30
DESCRIPTION:
URL:https://tsv-fridolfing.de/termin/tennis-herren-30/2028-05-18/
LOCATION:Tennisplatz Fridolfing\, Laufener Str. 23\, Fridolfing\, 83413\, Germany
END:VEVENT
BEGIN:VEVENT
DTSTART;TZID=Europe/Berlin:20280525T180000
DTEND;TZID=Europe/Berlin:20280525T180000
DTSTAMP:20260422T113228
CREATED:20241014T131530Z
LAST-MODIFIED:20241021T164745Z
UID:10014533-1842890400-1842890400@tsv-fridolfing.de
SUMMARY:Tennis Herren 30
DESCRIPTION:
URL:https://tsv-fridolfing.de/termin/tennis-herren-30/2028-05-25/
LOCATION:Tennisplatz Fridolfing\, Laufener Str. 23\, Fridolfing\, 83413\, Germany
END:VEVENT
BEGIN:VEVENT
DTSTART;TZID=Europe/Berlin:20280601T180000
DTEND;TZID=Europe/Berlin:20280601T180000
DTSTAMP:20260422T113228
CREATED:20241014T131530Z
LAST-MODIFIED:20241021T164745Z
UID:10014534-1843495200-1843495200@tsv-fridolfing.de
SUMMARY:Tennis Herren 30
DESCRIPTION:
URL:https://tsv-fridolfing.de/termin/tennis-herren-30/2028-06-01/
LOCATION:Tennisplatz Fridolfing\, Laufener Str. 23\, Fridolfing\, 83413\, Germany
END:VEVENT
BEGIN:VEVENT
DTSTART;TZID=Europe/Berlin:20280608T180000
DTEND;TZID=Europe/Berlin:20280608T180000
DTSTAMP:20260422T113228
CREATED:20241014T131530Z
LAST-MODIFIED:20241021T164745Z
UID:10014535-1844100000-1844100000@tsv-fridolfing.de
SUMMARY:Tennis Herren 30
DESCRIPTION:
URL:https://tsv-fridolfing.de/termin/tennis-herren-30/2028-06-08/
LOCATION:Tennisplatz Fridolfing\, Laufener Str. 23\, Fridolfing\, 83413\, Germany
END:VEVENT
BEGIN:VEVENT
DTSTART;TZID=Europe/Berlin:20280615T180000
DTEND;TZID=Europe/Berlin:20280615T180000
DTSTAMP:20260422T113228
CREATED:20241014T131530Z
LAST-MODIFIED:20241021T164745Z
UID:10014536-1844704800-1844704800@tsv-fridolfing.de
SUMMARY:Tennis Herren 30
DESCRIPTION:
URL:https://tsv-fridolfing.de/termin/tennis-herren-30/2028-06-15/
LOCATION:Tennisplatz Fridolfing\, Laufener Str. 23\, Fridolfing\, 83413\, Germany
END:VEVENT
BEGIN:VEVENT
DTSTART;TZID=Europe/Berlin:20280622T180000
DTEND;TZID=Europe/Berlin:20280622T180000
DTSTAMP:20260422T113228
CREATED:20241014T131530Z
LAST-MODIFIED:20241021T164745Z
UID:10014537-1845309600-1845309600@tsv-fridolfing.de
SUMMARY:Tennis Herren 30
DESCRIPTION:
URL:https://tsv-fridolfing.de/termin/tennis-herren-30/2028-06-22/
LOCATION:Tennisplatz Fridolfing\, Laufener Str. 23\, Fridolfing\, 83413\, Germany
END:VEVENT
BEGIN:VEVENT
DTSTART;TZID=Europe/Berlin:20280629T180000
DTEND;TZID=Europe/Berlin:20280629T180000
DTSTAMP:20260422T113228
CREATED:20241014T131530Z
LAST-MODIFIED:20241021T164745Z
UID:10014538-1845914400-1845914400@tsv-fridolfing.de
SUMMARY:Tennis Herren 30
DESCRIPTION:
URL:https://tsv-fridolfing.de/termin/tennis-herren-30/2028-06-29/
LOCATION:Tennisplatz Fridolfing\, Laufener Str. 23\, Fridolfing\, 83413\, Germany
END:VEVENT
BEGIN:VEVENT
DTSTART;TZID=Europe/Berlin:20280706T180000
DTEND;TZID=Europe/Berlin:20280706T180000
DTSTAMP:20260422T113228
CREATED:20241014T131530Z
LAST-MODIFIED:20241021T164745Z
UID:10014539-1846519200-1846519200@tsv-fridolfing.de
SUMMARY:Tennis Herren 30
DESCRIPTION:
URL:https://tsv-fridolfing.de/termin/tennis-herren-30/2028-07-06/
LOCATION:Tennisplatz Fridolfing\, Laufener Str. 23\, Fridolfing\, 83413\, Germany
END:VEVENT
BEGIN:VEVENT
DTSTART;TZID=Europe/Berlin:20280713T180000
DTEND;TZID=Europe/Berlin:20280713T180000
DTSTAMP:20260422T113228
CREATED:20241014T131530Z
LAST-MODIFIED:20241021T164745Z
UID:10014540-1847124000-1847124000@tsv-fridolfing.de
SUMMARY:Tennis Herren 30
DESCRIPTION:
URL:https://tsv-fridolfing.de/termin/tennis-herren-30/2028-07-13/
LOCATION:Tennisplatz Fridolfing\, Laufener Str. 23\, Fridolfing\, 83413\, Germany
END:VEVENT
BEGIN:VEVENT
DTSTART;TZID=Europe/Berlin:20280720T180000
DTEND;TZID=Europe/Berlin:20280720T180000
DTSTAMP:20260422T113228
CREATED:20241014T131530Z
LAST-MODIFIED:20241021T164745Z
UID:10014541-1847728800-1847728800@tsv-fridolfing.de
SUMMARY:Tennis Herren 30
DESCRIPTION:
URL:https://tsv-fridolfing.de/termin/tennis-herren-30/2028-07-20/
LOCATION:Tennisplatz Fridolfing\, Laufener Str. 23\, Fridolfing\, 83413\, Germany
END:VEVENT
BEGIN:VEVENT
DTSTART;TZID=Europe/Berlin:20280727T180000
DTEND;TZID=Europe/Berlin:20280727T180000
DTSTAMP:20260422T113228
CREATED:20241014T131530Z
LAST-MODIFIED:20241021T164745Z
UID:10014542-1848333600-1848333600@tsv-fridolfing.de
SUMMARY:Tennis Herren 30
DESCRIPTION:
URL:https://tsv-fridolfing.de/termin/tennis-herren-30/2028-07-27/
LOCATION:Tennisplatz Fridolfing\, Laufener Str. 23\, Fridolfing\, 83413\, Germany
END:VEVENT
BEGIN:VEVENT
DTSTART;TZID=Europe/Berlin:20280803T180000
DTEND;TZID=Europe/Berlin:20280803T180000
DTSTAMP:20260422T113228
CREATED:20241014T131530Z
LAST-MODIFIED:20241021T164745Z
UID:10014543-1848938400-1848938400@tsv-fridolfing.de
SUMMARY:Tennis Herren 30
DESCRIPTION:
URL:https://tsv-fridolfing.de/termin/tennis-herren-30/2028-08-03/
LOCATION:Tennisplatz Fridolfing\, Laufener Str. 23\, Fridolfing\, 83413\, Germany
END:VEVENT
BEGIN:VEVENT
DTSTART;TZID=Europe/Berlin:20280810T180000
DTEND;TZID=Europe/Berlin:20280810T180000
DTSTAMP:20260422T113228
CREATED:20241014T131530Z
LAST-MODIFIED:20241021T164745Z
UID:10014544-1849543200-1849543200@tsv-fridolfing.de
SUMMARY:Tennis Herren 30
DESCRIPTION:
URL:https://tsv-fridolfing.de/termin/tennis-herren-30/2028-08-10/
LOCATION:Tennisplatz Fridolfing\, Laufener Str. 23\, Fridolfing\, 83413\, Germany
END:VEVENT
BEGIN:VEVENT
DTSTART;TZID=Europe/Berlin:20280817T180000
DTEND;TZID=Europe/Berlin:20280817T180000
DTSTAMP:20260422T113228
CREATED:20241014T131530Z
LAST-MODIFIED:20241021T164745Z
UID:10014545-1850148000-1850148000@tsv-fridolfing.de
SUMMARY:Tennis Herren 30
DESCRIPTION:
URL:https://tsv-fridolfing.de/termin/tennis-herren-30/2028-08-17/
LOCATION:Tennisplatz Fridolfing\, Laufener Str. 23\, Fridolfing\, 83413\, Germany
END:VEVENT
BEGIN:VEVENT
DTSTART;TZID=Europe/Berlin:20280824T180000
DTEND;TZID=Europe/Berlin:20280824T180000
DTSTAMP:20260422T113228
CREATED:20241014T131530Z
LAST-MODIFIED:20241021T164745Z
UID:10014546-1850752800-1850752800@tsv-fridolfing.de
SUMMARY:Tennis Herren 30
DESCRIPTION:
URL:https://tsv-fridolfing.de/termin/tennis-herren-30/2028-08-24/
LOCATION:Tennisplatz Fridolfing\, Laufener Str. 23\, Fridolfing\, 83413\, Germany
END:VEVENT
BEGIN:VEVENT
DTSTART;TZID=Europe/Berlin:20280831T180000
DTEND;TZID=Europe/Berlin:20280831T180000
DTSTAMP:20260422T113228
CREATED:20241014T131530Z
LAST-MODIFIED:20241021T164745Z
UID:10014547-1851357600-1851357600@tsv-fridolfing.de
SUMMARY:Tennis Herren 30
DESCRIPTION:
URL:https://tsv-fridolfing.de/termin/tennis-herren-30/2028-08-31/
LOCATION:Tennisplatz Fridolfing\, Laufener Str. 23\, Fridolfing\, 83413\, Germany
END:VEVENT
BEGIN:VEVENT
DTSTART;TZID=Europe/Berlin:20280907T180000
DTEND;TZID=Europe/Berlin:20280907T180000
DTSTAMP:20260422T113228
CREATED:20241014T131530Z
LAST-MODIFIED:20241021T164745Z
UID:10014548-1851962400-1851962400@tsv-fridolfing.de
SUMMARY:Tennis Herren 30
DESCRIPTION:
URL:https://tsv-fridolfing.de/termin/tennis-herren-30/2028-09-07/
LOCATION:Tennisplatz Fridolfing\, Laufener Str. 23\, Fridolfing\, 83413\, Germany
END:VEVENT
BEGIN:VEVENT
DTSTART;TZID=Europe/Berlin:20280914T180000
DTEND;TZID=Europe/Berlin:20280914T180000
DTSTAMP:20260422T113228
CREATED:20241014T131530Z
LAST-MODIFIED:20241021T164745Z
UID:10014549-1852567200-1852567200@tsv-fridolfing.de
SUMMARY:Tennis Herren 30
DESCRIPTION:
URL:https://tsv-fridolfing.de/termin/tennis-herren-30/2028-09-14/
LOCATION:Tennisplatz Fridolfing\, Laufener Str. 23\, Fridolfing\, 83413\, Germany
END:VEVENT
BEGIN:VEVENT
DTSTART;TZID=Europe/Berlin:20280921T180000
DTEND;TZID=Europe/Berlin:20280921T180000
DTSTAMP:20260422T113228
CREATED:20241014T131530Z
LAST-MODIFIED:20241021T164745Z
UID:10014550-1853172000-1853172000@tsv-fridolfing.de
SUMMARY:Tennis Herren 30
DESCRIPTION:
URL:https://tsv-fridolfing.de/termin/tennis-herren-30/2028-09-21/
LOCATION:Tennisplatz Fridolfing\, Laufener Str. 23\, Fridolfing\, 83413\, Germany
END:VEVENT
BEGIN:VEVENT
DTSTART;TZID=Europe/Berlin:20280928T180000
DTEND;TZID=Europe/Berlin:20280928T180000
DTSTAMP:20260422T113228
CREATED:20241014T131530Z
LAST-MODIFIED:20241021T164745Z
UID:10014551-1853776800-1853776800@tsv-fridolfing.de
SUMMARY:Tennis Herren 30
DESCRIPTION:
URL:https://tsv-fridolfing.de/termin/tennis-herren-30/2028-09-28/
LOCATION:Tennisplatz Fridolfing\, Laufener Str. 23\, Fridolfing\, 83413\, Germany
END:VEVENT
BEGIN:VEVENT
DTSTART;TZID=Europe/Berlin:20281005T180000
DTEND;TZID=Europe/Berlin:20281005T180000
DTSTAMP:20260422T113228
CREATED:20241014T131530Z
LAST-MODIFIED:20241021T164745Z
UID:10014552-1854381600-1854381600@tsv-fridolfing.de
SUMMARY:Tennis Herren 30
DESCRIPTION:
URL:https://tsv-fridolfing.de/termin/tennis-herren-30/2028-10-05/
LOCATION:Tennisplatz Fridolfing\, Laufener Str. 23\, Fridolfing\, 83413\, Germany
END:VEVENT
BEGIN:VEVENT
DTSTART;TZID=Europe/Berlin:20281012T180000
DTEND;TZID=Europe/Berlin:20281012T180000
DTSTAMP:20260422T113228
CREATED:20241014T131530Z
LAST-MODIFIED:20241021T164745Z
UID:10014553-1854986400-1854986400@tsv-fridolfing.de
SUMMARY:Tennis Herren 30
DESCRIPTION:
URL:https://tsv-fridolfing.de/termin/tennis-herren-30/2028-10-12/
LOCATION:Tennisplatz Fridolfing\, Laufener Str. 23\, Fridolfing\, 83413\, Germany
END:VEVENT
END:VCALENDAR