BEGIN:VCALENDAR
VERSION:2.0
PRODID:-//TSV Fridolfing - ECPv6.15.20//NONSGML v1.0//EN
CALSCALE:GREGORIAN
METHOD:PUBLISH
X-ORIGINAL-URL:https://tsv-fridolfing.de
X-WR-CALDESC:Veranstaltungen für TSV Fridolfing
REFRESH-INTERVAL;VALUE=DURATION:PT1H
X-Robots-Tag:noindex
X-PUBLISHED-TTL:PT1H
BEGIN:VTIMEZONE
TZID:Europe/Berlin
BEGIN:DAYLIGHT
TZOFFSETFROM:+0100
TZOFFSETTO:+0200
TZNAME:CEST
DTSTART:20260329T010000
END:DAYLIGHT
BEGIN:STANDARD
TZOFFSETFROM:+0200
TZOFFSETTO:+0100
TZNAME:CET
DTSTART:20261025T010000
END:STANDARD
BEGIN:DAYLIGHT
TZOFFSETFROM:+0100
TZOFFSETTO:+0200
TZNAME:CEST
DTSTART:20270328T010000
END:DAYLIGHT
BEGIN:STANDARD
TZOFFSETFROM:+0200
TZOFFSETTO:+0100
TZNAME:CET
DTSTART:20271031T010000
END:STANDARD
BEGIN:DAYLIGHT
TZOFFSETFROM:+0100
TZOFFSETTO:+0200
TZNAME:CEST
DTSTART:20280326T010000
END:DAYLIGHT
BEGIN:STANDARD
TZOFFSETFROM:+0200
TZOFFSETTO:+0100
TZNAME:CET
DTSTART:20281029T010000
END:STANDARD
END:VTIMEZONE
BEGIN:VEVENT
DTSTART;TZID=Europe/Berlin:20270413T180000
DTEND;TZID=Europe/Berlin:20270413T180000
DTSTAMP:20260423T142407
CREATED:20241014T131134Z
LAST-MODIFIED:20241021T164651Z
UID:10013688-1807639200-1807639200@tsv-fridolfing.de
SUMMARY:Tennis Dienstagsrunde
DESCRIPTION:
URL:https://tsv-fridolfing.de/termin/dienstagsrunde/2027-04-13/
LOCATION:Tennisplatz Fridolfing\, Laufener Str. 23\, Fridolfing\, 83413\, Germany
END:VEVENT
BEGIN:VEVENT
DTSTART;TZID=Europe/Berlin:20270420T180000
DTEND;TZID=Europe/Berlin:20270420T180000
DTSTAMP:20260423T142407
CREATED:20241014T131134Z
LAST-MODIFIED:20241021T164651Z
UID:10013689-1808244000-1808244000@tsv-fridolfing.de
SUMMARY:Tennis Dienstagsrunde
DESCRIPTION:
URL:https://tsv-fridolfing.de/termin/dienstagsrunde/2027-04-20/
LOCATION:Tennisplatz Fridolfing\, Laufener Str. 23\, Fridolfing\, 83413\, Germany
END:VEVENT
BEGIN:VEVENT
DTSTART;TZID=Europe/Berlin:20270427T180000
DTEND;TZID=Europe/Berlin:20270427T180000
DTSTAMP:20260423T142407
CREATED:20241014T131134Z
LAST-MODIFIED:20241021T164651Z
UID:10013690-1808848800-1808848800@tsv-fridolfing.de
SUMMARY:Tennis Dienstagsrunde
DESCRIPTION:
URL:https://tsv-fridolfing.de/termin/dienstagsrunde/2027-04-27/
LOCATION:Tennisplatz Fridolfing\, Laufener Str. 23\, Fridolfing\, 83413\, Germany
END:VEVENT
BEGIN:VEVENT
DTSTART;TZID=Europe/Berlin:20270504T180000
DTEND;TZID=Europe/Berlin:20270504T180000
DTSTAMP:20260423T142407
CREATED:20241014T131134Z
LAST-MODIFIED:20241021T164651Z
UID:10013691-1809453600-1809453600@tsv-fridolfing.de
SUMMARY:Tennis Dienstagsrunde
DESCRIPTION:
URL:https://tsv-fridolfing.de/termin/dienstagsrunde/2027-05-04/
LOCATION:Tennisplatz Fridolfing\, Laufener Str. 23\, Fridolfing\, 83413\, Germany
END:VEVENT
BEGIN:VEVENT
DTSTART;TZID=Europe/Berlin:20270511T180000
DTEND;TZID=Europe/Berlin:20270511T180000
DTSTAMP:20260423T142407
CREATED:20241014T131134Z
LAST-MODIFIED:20241021T164651Z
UID:10013692-1810058400-1810058400@tsv-fridolfing.de
SUMMARY:Tennis Dienstagsrunde
DESCRIPTION:
URL:https://tsv-fridolfing.de/termin/dienstagsrunde/2027-05-11/
LOCATION:Tennisplatz Fridolfing\, Laufener Str. 23\, Fridolfing\, 83413\, Germany
END:VEVENT
BEGIN:VEVENT
DTSTART;TZID=Europe/Berlin:20270518T180000
DTEND;TZID=Europe/Berlin:20270518T180000
DTSTAMP:20260423T142407
CREATED:20241014T131134Z
LAST-MODIFIED:20241021T164651Z
UID:10013693-1810663200-1810663200@tsv-fridolfing.de
SUMMARY:Tennis Dienstagsrunde
DESCRIPTION:
URL:https://tsv-fridolfing.de/termin/dienstagsrunde/2027-05-18/
LOCATION:Tennisplatz Fridolfing\, Laufener Str. 23\, Fridolfing\, 83413\, Germany
END:VEVENT
BEGIN:VEVENT
DTSTART;TZID=Europe/Berlin:20270525T180000
DTEND;TZID=Europe/Berlin:20270525T180000
DTSTAMP:20260423T142407
CREATED:20241014T131134Z
LAST-MODIFIED:20241021T164651Z
UID:10013694-1811268000-1811268000@tsv-fridolfing.de
SUMMARY:Tennis Dienstagsrunde
DESCRIPTION:
URL:https://tsv-fridolfing.de/termin/dienstagsrunde/2027-05-25/
LOCATION:Tennisplatz Fridolfing\, Laufener Str. 23\, Fridolfing\, 83413\, Germany
END:VEVENT
BEGIN:VEVENT
DTSTART;TZID=Europe/Berlin:20270601T180000
DTEND;TZID=Europe/Berlin:20270601T180000
DTSTAMP:20260423T142407
CREATED:20241014T131134Z
LAST-MODIFIED:20241021T164651Z
UID:10013695-1811872800-1811872800@tsv-fridolfing.de
SUMMARY:Tennis Dienstagsrunde
DESCRIPTION:
URL:https://tsv-fridolfing.de/termin/dienstagsrunde/2027-06-01/
LOCATION:Tennisplatz Fridolfing\, Laufener Str. 23\, Fridolfing\, 83413\, Germany
END:VEVENT
BEGIN:VEVENT
DTSTART;TZID=Europe/Berlin:20270608T180000
DTEND;TZID=Europe/Berlin:20270608T180000
DTSTAMP:20260423T142407
CREATED:20241014T131134Z
LAST-MODIFIED:20241021T164651Z
UID:10013696-1812477600-1812477600@tsv-fridolfing.de
SUMMARY:Tennis Dienstagsrunde
DESCRIPTION:
URL:https://tsv-fridolfing.de/termin/dienstagsrunde/2027-06-08/
LOCATION:Tennisplatz Fridolfing\, Laufener Str. 23\, Fridolfing\, 83413\, Germany
END:VEVENT
BEGIN:VEVENT
DTSTART;TZID=Europe/Berlin:20270615T180000
DTEND;TZID=Europe/Berlin:20270615T180000
DTSTAMP:20260423T142407
CREATED:20241014T131134Z
LAST-MODIFIED:20241021T164651Z
UID:10013697-1813082400-1813082400@tsv-fridolfing.de
SUMMARY:Tennis Dienstagsrunde
DESCRIPTION:
URL:https://tsv-fridolfing.de/termin/dienstagsrunde/2027-06-15/
LOCATION:Tennisplatz Fridolfing\, Laufener Str. 23\, Fridolfing\, 83413\, Germany
END:VEVENT
BEGIN:VEVENT
DTSTART;TZID=Europe/Berlin:20270622T180000
DTEND;TZID=Europe/Berlin:20270622T180000
DTSTAMP:20260423T142407
CREATED:20241014T131134Z
LAST-MODIFIED:20241021T164651Z
UID:10013698-1813687200-1813687200@tsv-fridolfing.de
SUMMARY:Tennis Dienstagsrunde
DESCRIPTION:
URL:https://tsv-fridolfing.de/termin/dienstagsrunde/2027-06-22/
LOCATION:Tennisplatz Fridolfing\, Laufener Str. 23\, Fridolfing\, 83413\, Germany
END:VEVENT
BEGIN:VEVENT
DTSTART;TZID=Europe/Berlin:20270629T180000
DTEND;TZID=Europe/Berlin:20270629T180000
DTSTAMP:20260423T142407
CREATED:20241014T131134Z
LAST-MODIFIED:20241021T164651Z
UID:10013699-1814292000-1814292000@tsv-fridolfing.de
SUMMARY:Tennis Dienstagsrunde
DESCRIPTION:
URL:https://tsv-fridolfing.de/termin/dienstagsrunde/2027-06-29/
LOCATION:Tennisplatz Fridolfing\, Laufener Str. 23\, Fridolfing\, 83413\, Germany
END:VEVENT
BEGIN:VEVENT
DTSTART;TZID=Europe/Berlin:20270706T180000
DTEND;TZID=Europe/Berlin:20270706T180000
DTSTAMP:20260423T142407
CREATED:20241014T131134Z
LAST-MODIFIED:20241021T164651Z
UID:10013700-1814896800-1814896800@tsv-fridolfing.de
SUMMARY:Tennis Dienstagsrunde
DESCRIPTION:
URL:https://tsv-fridolfing.de/termin/dienstagsrunde/2027-07-06/
LOCATION:Tennisplatz Fridolfing\, Laufener Str. 23\, Fridolfing\, 83413\, Germany
END:VEVENT
BEGIN:VEVENT
DTSTART;TZID=Europe/Berlin:20270713T180000
DTEND;TZID=Europe/Berlin:20270713T180000
DTSTAMP:20260423T142407
CREATED:20241014T131134Z
LAST-MODIFIED:20241021T164651Z
UID:10013701-1815501600-1815501600@tsv-fridolfing.de
SUMMARY:Tennis Dienstagsrunde
DESCRIPTION:
URL:https://tsv-fridolfing.de/termin/dienstagsrunde/2027-07-13/
LOCATION:Tennisplatz Fridolfing\, Laufener Str. 23\, Fridolfing\, 83413\, Germany
END:VEVENT
BEGIN:VEVENT
DTSTART;TZID=Europe/Berlin:20270720T180000
DTEND;TZID=Europe/Berlin:20270720T180000
DTSTAMP:20260423T142407
CREATED:20241014T131134Z
LAST-MODIFIED:20241021T164651Z
UID:10013702-1816106400-1816106400@tsv-fridolfing.de
SUMMARY:Tennis Dienstagsrunde
DESCRIPTION:
URL:https://tsv-fridolfing.de/termin/dienstagsrunde/2027-07-20/
LOCATION:Tennisplatz Fridolfing\, Laufener Str. 23\, Fridolfing\, 83413\, Germany
END:VEVENT
BEGIN:VEVENT
DTSTART;TZID=Europe/Berlin:20270727T180000
DTEND;TZID=Europe/Berlin:20270727T180000
DTSTAMP:20260423T142407
CREATED:20241014T131134Z
LAST-MODIFIED:20241021T164651Z
UID:10013703-1816711200-1816711200@tsv-fridolfing.de
SUMMARY:Tennis Dienstagsrunde
DESCRIPTION:
URL:https://tsv-fridolfing.de/termin/dienstagsrunde/2027-07-27/
LOCATION:Tennisplatz Fridolfing\, Laufener Str. 23\, Fridolfing\, 83413\, Germany
END:VEVENT
BEGIN:VEVENT
DTSTART;TZID=Europe/Berlin:20270803T180000
DTEND;TZID=Europe/Berlin:20270803T180000
DTSTAMP:20260423T142407
CREATED:20241014T131134Z
LAST-MODIFIED:20241021T164651Z
UID:10013704-1817316000-1817316000@tsv-fridolfing.de
SUMMARY:Tennis Dienstagsrunde
DESCRIPTION:
URL:https://tsv-fridolfing.de/termin/dienstagsrunde/2027-08-03/
LOCATION:Tennisplatz Fridolfing\, Laufener Str. 23\, Fridolfing\, 83413\, Germany
END:VEVENT
BEGIN:VEVENT
DTSTART;TZID=Europe/Berlin:20270810T180000
DTEND;TZID=Europe/Berlin:20270810T180000
DTSTAMP:20260423T142407
CREATED:20241014T131134Z
LAST-MODIFIED:20241021T164651Z
UID:10013705-1817920800-1817920800@tsv-fridolfing.de
SUMMARY:Tennis Dienstagsrunde
DESCRIPTION:
URL:https://tsv-fridolfing.de/termin/dienstagsrunde/2027-08-10/
LOCATION:Tennisplatz Fridolfing\, Laufener Str. 23\, Fridolfing\, 83413\, Germany
END:VEVENT
BEGIN:VEVENT
DTSTART;TZID=Europe/Berlin:20270817T180000
DTEND;TZID=Europe/Berlin:20270817T180000
DTSTAMP:20260423T142407
CREATED:20241014T131134Z
LAST-MODIFIED:20241021T164651Z
UID:10013706-1818525600-1818525600@tsv-fridolfing.de
SUMMARY:Tennis Dienstagsrunde
DESCRIPTION:
URL:https://tsv-fridolfing.de/termin/dienstagsrunde/2027-08-17/
LOCATION:Tennisplatz Fridolfing\, Laufener Str. 23\, Fridolfing\, 83413\, Germany
END:VEVENT
BEGIN:VEVENT
DTSTART;TZID=Europe/Berlin:20270824T180000
DTEND;TZID=Europe/Berlin:20270824T180000
DTSTAMP:20260423T142407
CREATED:20241014T131134Z
LAST-MODIFIED:20241021T164651Z
UID:10013707-1819130400-1819130400@tsv-fridolfing.de
SUMMARY:Tennis Dienstagsrunde
DESCRIPTION:
URL:https://tsv-fridolfing.de/termin/dienstagsrunde/2027-08-24/
LOCATION:Tennisplatz Fridolfing\, Laufener Str. 23\, Fridolfing\, 83413\, Germany
END:VEVENT
BEGIN:VEVENT
DTSTART;TZID=Europe/Berlin:20270831T180000
DTEND;TZID=Europe/Berlin:20270831T180000
DTSTAMP:20260423T142407
CREATED:20241014T131134Z
LAST-MODIFIED:20241021T164651Z
UID:10013708-1819735200-1819735200@tsv-fridolfing.de
SUMMARY:Tennis Dienstagsrunde
DESCRIPTION:
URL:https://tsv-fridolfing.de/termin/dienstagsrunde/2027-08-31/
LOCATION:Tennisplatz Fridolfing\, Laufener Str. 23\, Fridolfing\, 83413\, Germany
END:VEVENT
BEGIN:VEVENT
DTSTART;TZID=Europe/Berlin:20270907T180000
DTEND;TZID=Europe/Berlin:20270907T180000
DTSTAMP:20260423T142407
CREATED:20241014T131134Z
LAST-MODIFIED:20241021T164651Z
UID:10013709-1820340000-1820340000@tsv-fridolfing.de
SUMMARY:Tennis Dienstagsrunde
DESCRIPTION:
URL:https://tsv-fridolfing.de/termin/dienstagsrunde/2027-09-07/
LOCATION:Tennisplatz Fridolfing\, Laufener Str. 23\, Fridolfing\, 83413\, Germany
END:VEVENT
BEGIN:VEVENT
DTSTART;TZID=Europe/Berlin:20270914T180000
DTEND;TZID=Europe/Berlin:20270914T180000
DTSTAMP:20260423T142407
CREATED:20241014T131134Z
LAST-MODIFIED:20241021T164651Z
UID:10013710-1820944800-1820944800@tsv-fridolfing.de
SUMMARY:Tennis Dienstagsrunde
DESCRIPTION:
URL:https://tsv-fridolfing.de/termin/dienstagsrunde/2027-09-14/
LOCATION:Tennisplatz Fridolfing\, Laufener Str. 23\, Fridolfing\, 83413\, Germany
END:VEVENT
BEGIN:VEVENT
DTSTART;TZID=Europe/Berlin:20270921T180000
DTEND;TZID=Europe/Berlin:20270921T180000
DTSTAMP:20260423T142407
CREATED:20241014T131134Z
LAST-MODIFIED:20241021T164651Z
UID:10013711-1821549600-1821549600@tsv-fridolfing.de
SUMMARY:Tennis Dienstagsrunde
DESCRIPTION:
URL:https://tsv-fridolfing.de/termin/dienstagsrunde/2027-09-21/
LOCATION:Tennisplatz Fridolfing\, Laufener Str. 23\, Fridolfing\, 83413\, Germany
END:VEVENT
BEGIN:VEVENT
DTSTART;TZID=Europe/Berlin:20270928T180000
DTEND;TZID=Europe/Berlin:20270928T180000
DTSTAMP:20260423T142407
CREATED:20241014T131134Z
LAST-MODIFIED:20241021T164651Z
UID:10013712-1822154400-1822154400@tsv-fridolfing.de
SUMMARY:Tennis Dienstagsrunde
DESCRIPTION:
URL:https://tsv-fridolfing.de/termin/dienstagsrunde/2027-09-28/
LOCATION:Tennisplatz Fridolfing\, Laufener Str. 23\, Fridolfing\, 83413\, Germany
END:VEVENT
BEGIN:VEVENT
DTSTART;TZID=Europe/Berlin:20271005T180000
DTEND;TZID=Europe/Berlin:20271005T180000
DTSTAMP:20260423T142407
CREATED:20241014T131134Z
LAST-MODIFIED:20241021T164651Z
UID:10013713-1822759200-1822759200@tsv-fridolfing.de
SUMMARY:Tennis Dienstagsrunde
DESCRIPTION:
URL:https://tsv-fridolfing.de/termin/dienstagsrunde/2027-10-05/
LOCATION:Tennisplatz Fridolfing\, Laufener Str. 23\, Fridolfing\, 83413\, Germany
END:VEVENT
BEGIN:VEVENT
DTSTART;TZID=Europe/Berlin:20271012T180000
DTEND;TZID=Europe/Berlin:20271012T180000
DTSTAMP:20260423T142407
CREATED:20241014T131134Z
LAST-MODIFIED:20241021T164651Z
UID:10013714-1823364000-1823364000@tsv-fridolfing.de
SUMMARY:Tennis Dienstagsrunde
DESCRIPTION:
URL:https://tsv-fridolfing.de/termin/dienstagsrunde/2027-10-12/
LOCATION:Tennisplatz Fridolfing\, Laufener Str. 23\, Fridolfing\, 83413\, Germany
END:VEVENT
BEGIN:VEVENT
DTSTART;TZID=Europe/Berlin:20271019T180000
DTEND;TZID=Europe/Berlin:20271019T180000
DTSTAMP:20260423T142407
CREATED:20241014T131134Z
LAST-MODIFIED:20241021T164651Z
UID:10013715-1823968800-1823968800@tsv-fridolfing.de
SUMMARY:Tennis Dienstagsrunde
DESCRIPTION:
URL:https://tsv-fridolfing.de/termin/dienstagsrunde/2027-10-19/
LOCATION:Tennisplatz Fridolfing\, Laufener Str. 23\, Fridolfing\, 83413\, Germany
END:VEVENT
BEGIN:VEVENT
DTSTART;TZID=Europe/Berlin:20271026T180000
DTEND;TZID=Europe/Berlin:20271026T180000
DTSTAMP:20260423T142407
CREATED:20241014T131134Z
LAST-MODIFIED:20241021T164651Z
UID:10013716-1824573600-1824573600@tsv-fridolfing.de
SUMMARY:Tennis Dienstagsrunde
DESCRIPTION:
URL:https://tsv-fridolfing.de/termin/dienstagsrunde/2027-10-26/
LOCATION:Tennisplatz Fridolfing\, Laufener Str. 23\, Fridolfing\, 83413\, Germany
END:VEVENT
BEGIN:VEVENT
DTSTART;TZID=Europe/Berlin:20271102T180000
DTEND;TZID=Europe/Berlin:20271102T180000
DTSTAMP:20260423T142407
CREATED:20241014T131134Z
LAST-MODIFIED:20241021T164651Z
UID:10013717-1825178400-1825178400@tsv-fridolfing.de
SUMMARY:Tennis Dienstagsrunde
DESCRIPTION:
URL:https://tsv-fridolfing.de/termin/dienstagsrunde/2027-11-02/
LOCATION:Tennisplatz Fridolfing\, Laufener Str. 23\, Fridolfing\, 83413\, Germany
END:VEVENT
END:VCALENDAR